Workbook
Name Einkessel: INDIRECT("Bilder!A"&[1]Bilder!$G$1)
Name Einkessel: INDIRECT("Bilder!A"&Bilder!$G$1)
Name Logo: INDIRECT("Bilder!B"&[1]Bilder!$G$3)
Name Logo: INDIRECT("Bilder!B"&Bilder!$G$5)
Name Logo_E_CH: INDIRECT("Bilder!B"&Bilder!$G$9)

Sheet Projektformular
CP1: =Datenbank!H1 -> 0
N2: Sprache / Langue / Lingua / Language | CP2: =Datenbank!H2 -> 0
CP3: =Datenbank!H3 -> 0
CP4: =Datenbank!H4 -> 0
E5: =Text!C4 -> Formulario di progetto QMmini | R5: =Text!C5 -> Pagina 1 | Y5: =E5 -> Formulario di progetto QMmini | AM5: =Text!C64 -> Pagina 2 | AU5: =E5 -> Formulario di progetto QMmini | BC5: =Text!C145 -> Pagina 3 | BJ5: =E5 -> Formulario di progetto QMmini | BX5: =Text!C187 -> Pagina 4 | CE5: =E5 -> Formulario di progetto QMmini | CM5: =Text!C260 -> Pagina 5 | CP5: =Datenbank!H5 -> 0
E6: Version 3.4-39 | R6: =IF(Kontrolle!F52>0,Text!C282,Text!C281) -> Validazione: NON completamente compilato | Y6: =E6 -> Version 3.4-39 | AM6: =IF(Kontrolle!F52>0,Text!C282,Text!C281) -> Validazione: NON completamente compilato | AU6: =Y6 -> Version 3.4-39 | BC6: =IF(Kontrolle!F52>0,Text!C282,Text!C281) -> Validazione: NON completamente compilato | BJ6: =AU6 -> Version 3.4-39 | BX6: =IF(Kontrolle!F52>0,Text!C282,Text!C281) -> Validazione: NON completamente compilato | CE6: =BJ6 -> Version 3.4-39 | CM6: =IF(Kontrolle!F52>0,Text!C282,Text!C281) -> Validazione: NON completamente compilato | CP6: =Datenbank!H6 -> 0
A7: =Text!C6 -> A01. Committente | R7: =IF(Kontrolle!F52>0,Text!C283,"") -> Note dalla linea 74 | U7: =Text!C65 -> A05. Informazioni sul progetto | AM7: =IF(Kontrolle!F52>0,Text!C283,"") -> Note dalla linea 74 | AP7: =Text!C146 -> A08. Rilievo della situazione | BC7: =IF(Kontrolle!F52>0,Text!C283,"") -> Note dalla linea 74 | BF7: =Text!C188 -> A10. Rete di teleriscaldamento | BX7: =IF(Kontrolle!F52>0,Text!C283,"") -> Note dalla linea 74 | CA7: =Text!C261 -> A13. Schema idraulico | CM7: =IF(Kontrolle!F52>0,Text!C283,"") -> Note dalla linea 74 | CP7: =Datenbank!H7 -> ja
CP8: =Datenbank!H8 -> 0
E9: =Text!C7 -> Committente | Y9: =Text!C66 -> Data prevista per inizio dei lavori | AQ9: =Text!C147 -> Utente | AR9: =Text!C149 -> Oggetto | AU9: =Text!C152 -> Edificio | AV9: =Text!C150 -> Tipo di edificio | AX9: =Text!C163 -> Isolamento | AY9: =Text!C166 -> In rete | AZ9: =Text!C167 -> Potenza | BA9: =Text!C168 -> Superficie | BB9: =Text!C171 -> Consumo | BC9: =Text!C174 -> di cui a.c.s. | BH9: =Text!C189 -> Lunghezza del tracciato della | BI9: =Text!C191 -> Energia utile | BJ9: =Text!C193 -> Densità di | BL9: =Text!C195 -> Perdite della rete | BP9: =Text!C196 -> Temperature della rete, °C | CP9: =Datenbank!H9 -> 365
E10: =Text!C8 -> Persona di contatto | Y10: =Text!C67 -> Data prevista per messa in servizio completa | AQ10: =Text!C148 -> No. | AV10: =Text!C151 -> risp. di destinazione | AX10: =Text!C164 -> termico | AY10: =Text!C165 -> si / no | BA10: =Text!C169 -> di riferimento | BB10: =Text!C172 -> annuo | BC10: kWh/a | BH10: =Text!C190 -> rete (=lunghezza degli scavi) | BI10: =Text!C192 -> in rete | BJ10: =Text!C194 -> allacciamento | CP10: =Datenbank!H10 -> 45516
E11: =Text!C9 -> Indirizzo | L11: =Text!C12 -> NAP, Luogo | Y11: =Text!C68 -> Indirizzo | BA11: =Text!C170 -> energetico | BB11: =Text!C173 -> di calore | BH11: m | BI11: MWh/a | BJ11: MWh/(a m) | BL11: % | BN11: MWh/a | BO11: kW | BP11: =Text!C197 -> Mandata | BR11: =Text!C198 -> Ritorno | BT11: ΔT | CP11: =Datenbank!H11 -> 1
E12: =Text!C10 -> Telefono | Y12: =Text!C69 -> NAP, Luogo | AZ12: kW | BA12: m2 | BB12: kWh/a* | BC12: kWh/a | BI12: =IF(AC33=Dropdown!A20,"",IF(AND(AC33=Dropdown!A19,ISBLANK(BH12)=TRUE),"",SUMIF(AY13:AY32,Dropdown!A19,BB13:BB32)/1000)) -> 0 | BJ12: =IF(AC33=Dropdown!A20,"",IF(AND(AC33=Dropdown!A19,ISBLANK(BH12)=TRUE),"",BI12/BH12)) -> #DIV/0! | BL12: =IF(AC33=Dropdown!A20,"",IF(AND(AC33=Dropdown!A19,ISBLANK(BH12)=TRUE),"",IF(AC34=Dropdown!A19,Berechnungen!G50*BJ12^-Berechnungen!G51,Berechnungen!F50*BJ12^-Berechnungen!F51))) -> #DIV/0! | BN12: =IF(AC33=Dropdown!A20,"",IF(AND(AC33=Dropdown!A19,ISBLANK(BH12)=TRUE),"",BI12/(1-(BL12/100))*BL12/100)) -> #DIV/0! | BO12: =IF(AC33=Dropdown!A20,"",IF(AND(AC33=Dropdown!A19,ISBLANK(BH12)=TRUE),"",BN12*1000/AI34)) -> #DIV/0! | BT12: =IF(AC33=Dropdown!A20,"",BP12-BQ12) -> 0 | CP12: =Datenbank!H12 -> Pendent
E13: =Text!C11 -> E-Mail | Y13: =Text!C70 -> Cantone | AQ13: 1 | BC13: =IF(AV13=Text!$C$159,Projektformular!BB13,IF(AV13=Text!$C$155,20*Projektformular!BA13,"")) | BI13: =IF(AC33=Dropdown!A19,Text!C199,"") | BJ13: =IF(AC33=Dropdown!A20,"",IF(AND(AC33=Dropdown!A19,OR(ISBLANK(Projektformular!BH12)=TRUE,ISBLANK(Projektformular!BP12)=TRUE,ISBLANK(Projektformular!BQ12)=TRUE)),Text!C280,IF(Berechnungen!D95=1,Text!C202,IF(Berechnungen!D92=Dropdown!A20,Text!C200,IF(Berechnungen!D94=Dropdown!A20,Text!C201,Text!C279))))) -> #DIV/0! | CP13: =Datenbank!H13 -> #DIV/0!
Y14: =Text!C97 -> Regione climatica | AQ14: 2 | BC14: =IF(AV14=Text!$C$159,Projektformular!BB14,IF(AV14=Text!$C$155,20*Projektformular!BA14,"")) | BI14: =IF(OR(Berechnungen!D92=Dropdown!A20,Berechnungen!D94=Dropdown!A20),Text!C203,"") -> #DIV/0! | CP14: =Datenbank!H14 -> 0
A15: =Text!C13 -> A02. Responsabile di progetto | Y15: =Text!C101 -> Altezza (m. s. m.) | AQ15: 3 | BC15: =IF(AV15=Text!$C$159,Projektformular!BB15,IF(AV15=Text!$C$155,20*Projektformular!BA15,"")) | CP15: =Datenbank!H15 -> 0
Y16: =Text!C104 -> Sovvenzione da parte di: | AQ16: 4 | BC16: =IF(AV16=Text!$C$159,Projektformular!BB16,IF(AV16=Text!$C$155,20*Projektformular!BA16,"")) | BF16: =Text!C204 -> A11. Informazioni sulla caldaia | CP16: =Datenbank!H16 -> 0
E17: =Text!C14 -> Responsabile per i presenti dati di progetto | AQ17: 5 | BC17: =IF(AV17=Text!$C$159,Projektformular!BB17,IF(AV17=Text!$C$155,20*Projektformular!BA17,"")) | CP17: =Datenbank!H17 -> 0
E18: =Text!C8 -> Persona di contatto | AQ18: 6 | BC18: =IF(AV18=Text!$C$159,Projektformular!BB18,IF(AV18=Text!$C$155,20*Projektformular!BA18,"")) | BJ18: =Text!C205 -> Potenza nominale massima ammissibile della caldaia | BL18: =ROUND(AZ37*1.2,0) -> #DIV/0! | BN18: kW | BO18: =Text!C206 -> (calcolato dalla somma totale (A08) e dal fattore di sovradimensionamento consentito del 20%) | CP18: =Datenbank!H18 -> Version 3.4-39
E19: =Text!C9 -> Indirizzo | L19: =Text!C12 -> NAP, Luogo | U19: =Text!C103 -> A06. Costi previsti (in CHF , IVA escl.) | AQ19: 7 | BC19: =IF(AV19=Text!$C$159,Projektformular!BB19,IF(AV19=Text!$C$155,20*Projektformular!BA19,"")) | BJ19: =Text!C207 -> Fornitore e tipo di caldaia conosciuti ? | BL19: Ja | CP19: =Datenbank!H19 -> #N/A
E20: =Text!C10 -> Telefono | L20: =Text!C15 -> Funzione | AQ20: 8 | BC20: =IF(AV20=Text!$C$159,Projektformular!BB20,IF(AV20=Text!$C$155,20*Projektformular!BA20,"")) | BL20: =Text!C208 -> Potenza nominale | BV20: =Text!C209 -> Potenza minima | CP20: =Datenbank!H20 -> #N/A
E21: =Text!C11 -> E-Mail | Y21: =Text!C109 -> Caldaie | AC21: =Text!C116 -> (incl. carica, pulizia dei fumi, tecnica di misurazione e controllo e canna fumaria) | AQ21: 9 | BC21: =IF(AV21=Text!$C$159,Projektformular!BB21,IF(AV21=Text!$C$155,20*Projektformular!BA21,"")) | BJ21: =Text!C210 -> Caldaia 1 | BN21: kW | BO21: =Text!C211 -> (la più piccola caldaia) | BT21: =Text!C210 -> Caldaia 1 | BX21: kW | CP21: =Datenbank!H21 -> 0
E22: =Text!C16 -> Denominazione dell'impianto | Y22: =Text!C110 -> Impiantistica riscaldamento | AQ22: 10 | BC22: =IF(AV22=Text!$C$159,Projektformular!BB22,IF(AV22=Text!$C$155,20*Projektformular!BA22,"")) | BJ22: =IF(AC36=Dropdown!A41,Text!C212,"") | CE22: =IF(AC36=Dropdown!A40,"",Text!C264) -> Caldaia 1 | CH22: =IF(AC36=Dropdown!A40,Text!C264,Text!C265) -> Caldaia 2* | CJ22: =Text!C277 -> Accumulare | CP22: =Datenbank!H22 -> 0
Y23: =Text!C111 -> Impianti elettrici | AQ23: 11 | BC23: =IF(AV23=Text!$C$159,Projektformular!BB23,IF(AV23=Text!$C$155,20*Projektformular!BA23,"")) | BJ23: =Text!C213 -> Potenza nominale totale | BL23: =BL21+BL22 -> 0 | BN23: kW | BT23: =Text!C214 -> Potenza minima (caldaia più piccola) | BV23: =BV21 -> 0 | BX23: kW | CP23: =Datenbank!H23 -> ,
A24: =Text!C22 -> A03. Risultati della verifica di plausibilità tramite QMmini | Y24: =Text!C112 -> Opere edili | AC24: =Text!C117 -> (centrale termica e deposito del combustibile) | AQ24: 12 | BC24: =IF(AV24=Text!$C$159,Projektformular!BB24,IF(AV24=Text!$C$155,20*Projektformular!BA24,"")) | CP24: =Datenbank!H24 -> ,
Y25: =Text!C113 -> Rete di teleriscaldamento | AC25: =Text!C118 -> (lavori di scavo, condutture e sottostazioni termiche) | AQ25: 13 | BC25: =IF(AV25=Text!$C$159,Projektformular!BB25,IF(AV25=Text!$C$155,20*Projektformular!BA25,"")) | BJ25: =IF(BL19=Dropdown!A20,"",Text!C215) -> Designazione del tipo | CP25: =Datenbank!H25 -> Good
E26: =Text!C23 -> Rilievo della situazione degli utenti | G26: =IF(Berechnungen!AV40>0,Text!C33,Text!C32) -> Gli indicatori sono nella zona di plausibilità | Y26: =Text!C114 -> Progettazione | AQ26: 14 | BC26: =IF(AV26=Text!$C$159,Projektformular!BB26,IF(AV26=Text!$C$155,20*Projektformular!BA26,"")) | BJ26: =IF(BL19=Dropdown!A20,"",Text!C216) -> Fabbricante / fornitore | CP26: =Datenbank!H26 -> 0
E27: =Text!C24 -> Riserva di potenza | G27: =IF(1-(AZ37/BL23)>=0.3,Text!C35,Text!C34) -> #DIV/0! | Y27: =Text!C115 -> Altro | AQ27: 15 | BC27: =IF(AV27=Text!$C$159,Projektformular!BB27,IF(AV27=Text!$C$155,20*Projektformular!BA27,"")) | BJ27: =Text!C217 -> Fabbisogno annuo di combustibile | BL27: =ROUND(IF(AC38=Dropdown!A55,Projektformular!BB37/0.85/4.8,IF(AC38=Dropdown!A56,Projektformular!BB37/0.85/800,Projektformular!BB37/0.85/850)),-1) -> #DIV/0! | BN27: =IF(AC38=Dropdown!A55,Text!C228,Text!C229) -> m3 Cippato/a | CP27: =Datenbank!H27 -> 0
E28: =Text!C25 -> Dimensionamento della caldaia a legna | G28: =BL28 -> #DIV/0! | AQ28: 16 | BC28: =IF(AV28=Text!$C$159,Projektformular!BB28,IF(AV28=Text!$C$155,20*Projektformular!BA28,"")) | BJ28: =Text!C218 -> Sovradimensionamento della caldaia | BL28: =IF(BL23<AZ37,Dropdown!A77,IF(BL23>BL18,Dropdown!A78,Dropdown!A76)) -> #DIV/0! | BP28: =IF(BL28=Dropdown!A76,"",Text!C203) -> #DIV/0! | CP28: =Datenbank!H28 -> 0
E29: =Text!C26 -> Rete di teleriscaldamento | G29: =IF(AC33=Dropdown!A20,Text!C44,IF(BT12<30,Text!C40,Text!C39)) -> ∆T mandata-ritorno troppo piccola | Y29: =Text!C119 -> Totale costi di investimento | AA29: =SUM(AA21:AA27) -> 0 | AQ29: 17 | BC29: =IF(AV29=Text!$C$159,Projektformular!BB29,IF(AV29=Text!$C$155,20*Projektformular!BA29,"")) | BJ29: =Text!C219 -> Sovra o sottodimensionamento | BL29: =(BL23/AZ37)-1 -> #DIV/0! | CP29: =Datenbank!H29 -> 0
E30: =Text!C27 -> Densità di allacciamento | G30: =IF(AC33=Dropdown!A20,Text!C44,IF(Berechnungen!D92=Dropdown!A20,Text!C43,Text!C42)) -> #DIV/0! | AQ30: 18 | BC30: =IF(AV30=Text!$C$159,Projektformular!BB30,IF(AV30=Text!$C$155,20*Projektformular!BA30,"")) | CP30: =Datenbank!H30 -> 0
E31: =Text!C28 -> Esercizio tutto l'anno | G31: =IF(AC34=Dropdown!A20,Text!C47,IF(Projektformular!BL42=Dropdown!A20,Text!C46,Text!C45)) -> #VALUE! | U31: =Text!C120 -> Dati tecnici | AQ31: 19 | BC31: =IF(AV31=Text!$C$159,Projektformular!BB31,IF(AV31=Text!$C$155,20*Projektformular!BA31,"")) | BG31: =Text!C223 -> Impegno del responsabile di progetto: | CP31: =Datenbank!H31 -> 0
E32: =Text!C29 -> Accumulatore | G32: =IF(BL49=Dropdown!A20,Text!C49,IF(AND(BL48<BL47,BL48>=BL46),Text!C50,Text!C48)) -> Volume accumulatore troppo piccolo | AQ32: 20 | BC32: =IF(AV32=Text!$C$159,Projektformular!BB32,IF(AV32=Text!$C$155,20*Projektformular!BA32,"")) | BG32: =IF(BL19="","",IF(BL19=Dropdown!A20,Text!C225,Text!C224)) -> Il responsabile del progetto si impegna a discutere con il fornitore della caldaia riguardo all’altezza necessaria del locale tecnico. | CP32: =Datenbank!H32 -> Ja
E33: =Text!C30 -> Raccomandazione deposito combustibile soddisfatta? | G33: =BL57 -> #DIV/0! | AA33: =Text!C121 -> Rete di teleriscaldamento | AY33: =Text!C175 -> Totale | AZ33: =SUM(AZ13:AZ32) -> 0 | BA33: kW | BB33: =SUM(BB13:BB32) -> 0 | BC33: kWh/a | BG33: =IF(BL19="","",IF(BL19=Dropdown!A19,"",Text!C226)) -> #DIV/0! | CP33: =Datenbank!H33 -> #DIV/0!
E34: =Text!C31 -> Impegni del responsabile di progetto | G34: =Text!C54 -> Gli obblighi elencati nella sezione A11 sono soddisfatti. | AA34: =Text!C122 -> Esercizio tutto l'anno | AG34: =Text!C129 -> Ore di funzionamento | AI34: =IF(AC34=Dropdown!A19,8760,4800) -> 4800 | AJ34: =IF(AC34=Dropdown!A19,Text!C130,Text!C131) -> Ore (adeguare alla regione climatica) | BA34: =Text!C174 -> di cui a.c.s. | BB34: =SUM(BC13:BC32) -> 0 | BC34: kWh/a | BG34: =IF(BL19="","",IF(BL19=Dropdown!A19,"",Text!C227)) -> Inoltre, si impegna a informare il produttore/fornitore di qualsiasi deviazione dal formulario di progetto. | CP34: =Datenbank!H34 -> #DIV/0!
AA35: =Text!C124 -> Ulteriori vettori o sistemi a energie rinnovabili | AY35: =Text!C176 -> Perdite della rete di teleriscaldamento | AZ35: =IF(AC33=Dropdown!A20,0,BO12) -> #DIV/0! | BA35: kW | BB35: =IF(AC33=Dropdown!A20,0,BN12*1000) -> #DIV/0! | BC35: kWh/a | CP35: =Datenbank!H35 -> Nein
B36: =Text!C55 -> Conferma del responsabile di progetto | AA36: =Text!C125 -> Configurazione caldaie | AU36: =Text!C177 -> Riserva: | BA36: kW | BC36: kWh/a | BF36: =Text!C230 -> A12. Scelta del sistema QMmini | CP36: =Datenbank!H36 -> #DIV/0!
AA37: =Text!C134 -> Filtro per polveri sottili | AY37: =Text!C178 -> Totale | AZ37: =IF(AC33=Dropdown!A20,ROUND(AZ33+AZ36,0),ROUND(AZ33+AZ35+AZ36,0)) -> #DIV/0! | BA37: kW | BB37: =IF(AC33=Dropdown!A20,BB33+BB36,BB33+BB35+BB36) -> #DIV/0! | BC37: kWh/a | CP37: =Datenbank!H37 -> #VALUE!
AA38: =Text!C126 -> Scelta del combustibile: | AQ38: =Text!C287 -> * Energia utile; Sono state prese in considerazione le ristrutturazioni edilizie (previste, oppure realizzate negli ultimi 3 anni) e l'efficienza annuale dell'impianto esistente? | BH38: =Text!C231 -> Calcolo per esercizio tutto l'anno | CP38: =Datenbank!H38 -> Nein
V39: =IF(AC37=Text!C137,Text!C139,"") | W39: =IF(AC37=Text!C137,Text!C140,"") | BJ39: =Text!C232 -> Potenza richiesta in funzionamento a basso carico | BL39: =IF(AC33=Dropdown!A20,BB34/8760,BB34/8760+BB35/AI34) -> #DIV/0! | BN39: kW | CP39: =Datenbank!H39 -> #DIV/0!
W40: =IF(AC37=Text!C137,Text!C141,"") | AP40: =Text!C179 -> A09. Indicatori calcolati e valori di riferimento | BJ40: =Text!C233 -> Percentuale rispetto alla potenza nominale della caldaia | BL40: =IF(BL21="","",BL39/BL21) | CP40: =Datenbank!H40 -> 0
...

Sheet Text
A1: Seite | B1: Abschnitt | C1: =Dropdown!A9 -> I | D1: Deutsch | E1: Französisch | F1: Italiensich | G1: Englisch
A2: Dropdown | C2: =IF(C$1="F",E2,IF(C$1="I",F2,IF(C$1="E",G2,D2))) -> Si | D2: Ja | E2: Oui | F2: Si | G2: Yes
A3: Dropdown | C3: =IF(C$1="F",E3,IF(C$1="I",F3,IF(C$1="E",G3,D3))) -> No | D3: Nein | E3: Non | F3: No | G3: No
A4: Seite 1 | C4: =IF(C$1="F",E4,IF(C$1="I",F4,IF(C$1="E",G4,D4))) -> Formulario di progetto QMmini | D4: Projektformular QMmini | E4: Formulaire de projet QMmini | F4: Formulario di progetto QMmini | G4: QMmini project form
A5: Seite 1 | C5: =IF(C$1="F",E5,IF(C$1="I",F5,IF(C$1="E",G5,D5))) -> Pagina 1 | D5: Seite 1 | E5: Page 1 | F5: Pagina 1 | G5: Page 1
A6: Seite 1 | B6: A01 | C6: =IF(C$1="F",E6,IF(C$1="I",F6,IF(C$1="E",G6,D6))) -> A01. Committente | D6: A01. Bauherrschaft | E6: A01. Maître d'ouvrage | F6: A01. Committente | G6: A01. Project owner
A7: Seite 1 | B7: A01 | C7: =IF(C$1="F",E7,IF(C$1="I",F7,IF(C$1="E",G7,D7))) -> Committente | D7: Bauherrschaft | E7: Maître d'ouvrage | F7: Committente | G7: Client
A8: Seite 1 | B8: A01 | C8: =IF(C$1="F",E8,IF(C$1="I",F8,IF(C$1="E",G8,D8))) -> Persona di contatto | D8: Ansprechperson/Kontaktperson | E8: Interlocuteur/personne de contact | F8: Persona di contatto | G8: Contact person
A9: Seite 1 | B9: A01 | C9: =IF(C$1="F",E9,IF(C$1="I",F9,IF(C$1="E",G9,D9))) -> Indirizzo | D9: Strasse | E9: Rue | F9: Indirizzo | G9: Street
A10: Seite 1 | B10: A01 | C10: =IF(C$1="F",E10,IF(C$1="I",F10,IF(C$1="E",G10,D10))) -> Telefono | D10: Telefon | E10: N° de téléphone | F10: Telefono | G10: Phone
A11: Seite 1 | B11: A01 | C11: =IF(C$1="F",E11,IF(C$1="I",F11,IF(C$1="E",G11,D11))) -> E-Mail | D11: E-Mail | E11: E-Mail | F11: E-Mail | G11: E-Mail
A12: Seite 1 | B12: A01 | C12: =IF(C$1="F",E12,IF(C$1="I",F12,IF(C$1="E",G12,D12))) -> NAP, Luogo | D12: PLZ, Ort | E12: NPA, Localité | F12: NAP, Luogo | G12: Postcode, City
A13: Seite 1 | B13: A02 | C13: =IF(C$1="F",E13,IF(C$1="I",F13,IF(C$1="E",G13,D13))) -> A02. Responsabile di progetto | D13: A02. Projektverantwortlicher | E13: A02. Responsable du projet | F13: A02. Responsabile di progetto | G13: A02. Project manager
A14: Seite 1 | B14: A02 | C14: =IF(C$1="F",E14,IF(C$1="I",F14,IF(C$1="E",G14,D14))) -> Responsabile per i presenti dati di progetto | D14: Verantwortlich für vorliegende Projektangaben | E14: Responsable des donné actuelles du projet | F14: Responsabile per i presenti dati di progetto | G14: Responsible for the project information provided
A15: Seite 1 | B15: A02 | C15: =IF(C$1="F",E15,IF(C$1="I",F15,IF(C$1="E",G15,D15))) -> Funzione | D15: Funktion | E15: Fonction | F15: Funzione | G15: Function
A16: Seite 1 | B16: A02 | C16: =IF(C$1="F",E16,IF(C$1="I",F16,IF(C$1="E",G16,D16))) -> Denominazione dell'impianto | D16: Anlagenbeschreibung | E16: Description de l'installation | F16: Denominazione dell'impianto | G16: Facility description
A17: Seite 1 | B17: A02 | C17: =IF(C$1="F",E17,IF(C$1="I",F17,IF(C$1="E",G17,D17))) -> Progettista | D17: Planer | E17: Concepteur | F17: Progettista | G17: Planner
... A63: Seite 1 | B63: A04 | C63: =IF(C$1="F",E63,IF(C$1="I",F63,IF(C$1="E",G63,D63))) -> Revisore | D63: Prüfstelle | E63: Certification QMmini | F63: Revisore | G63: QMmini verification service
A64: Seite 2 | C64: =IF(C$1="F",E64,IF(C$1="I",F64,IF(C$1="E",G64,D64))) -> Pagina 2 | D64: Seite 2 | E64: Page 2 | F64: Pagina 2 | G64: Page 2
A65: Seite 2 | B65: A05 | C65: =IF(C$1="F",E65,IF(C$1="I",F65,IF(C$1="E",G65,D65))) -> A05. Informazioni sul progetto | D65: A05. Angaben zum Projekt | E65: A05. Informations concernant le projet | F65: A05. Informazioni sul progetto | G65: A05. Details of the project
A66: Seite 2 | B66: A05 | C66: =IF(C$1="F",E66,IF(C$1="I",F66,IF(C$1="E",G66,D66))) -> Data prevista per inizio dei lavori | D66: geplanter Baubeginn | E66: Début des travaux planifié | F66: Data prevista per inizio dei lavori | G66: Planned start of construction
A67: Seite 2 | B67: A05 | C67: =IF(C$1="F",E67,IF(C$1="I",F67,IF(C$1="E",G67,D67))) -> Data prevista per messa in servizio completa | D67: voraussichtliche Vollinbetriebnahme | E67: Mise en service prévisionnelle | F67: Data prevista per messa in servizio completa | G67: Expected full commissioning
A68: Seite 2 | B68: A05 | C68: =IF(C$1="F",E68,IF(C$1="I",F68,IF(C$1="E",G68,D68))) -> Indirizzo | D68: Strasse | E68: Rue | F68: Indirizzo | G68: Street
A69: Seite 2 | B69: A05 | C69: =IF(C$1="F",E69,IF(C$1="I",F69,IF(C$1="E",G69,D69))) -> NAP, Luogo | D69: PLZ, Ort | E69: NPA, Localité | F69: NAP, Luogo | G69: Postcode, City
A70: Seite 2 | B70: A05 | C70: =IF(C$1="F",E70,IF(C$1="I",F70,IF(C$1="E",G70,D70))) -> Cantone | D70: Kanton | E70: Canton | F70: Cantone | G70: Canton
A71: Seite 2 | B71: A05 | C71: =IF(C$1="F",E71,IF(C$1="I",F71,IF(C$1="E",G71,D71))) -> Argovia | D71: Aargau | E71: Argovie | F71: Argovia | G71: Aargau
A72: Seite 2 | B72: A05 | C72: =IF(C$1="F",E72,IF(C$1="I",F72,IF(C$1="E",G72,D72))) -> Appenzello Esterno | D72: Appenzell Ausserrhoden | E72: Appenzell Rhodes-Extérieures | F72: Appenzello Esterno | G72: Appenzell Outer Rhodes
A73: Seite 2 | B73: A05 | C73: =IF(C$1="F",E73,IF(C$1="I",F73,IF(C$1="E",G73,D73))) -> Appenzello Interno | D73: Appenzell Innerrhoden | E73: Appenzell Rhodes-Intérieures | F73: Appenzello Interno | G73: Appenzell Inner Rhodes
A74: Seite 2 | B74: A05 | C74: =IF(C$1="F",E74,IF(C$1="I",F74,IF(C$1="E",G74,D74))) -> Basilea-Campagna | D74: Basel-Landschaft | E74: Bâle-Campagne | F74: Basilea-Campagna | G74: Basel-Land
A75: Seite 2 | B75: A05 | C75: =IF(C$1="F",E75,IF(C$1="I",F75,IF(C$1="E",G75,D75))) -> Basilea Città | D75: Basel-Stadt | E75: Bâle-Ville | F75: Basilea Città | G75: Basel-City
A76: Seite 2 | B76: A05 | C76: =IF(C$1="F",E76,IF(C$1="I",F76,IF(C$1="E",G76,D76))) -> Berna | D76: Bern | E76: Berne | F76: Berna | G76: Bern
... A144: Seite 2 | B144: A07 | C144: =IF(C$1="F",E144,IF(C$1="I",F144,IF(C$1="E",G144,D144))) -> Cippato, tutto l'anno M < 35% | D144: Holzhackschnitzel, ganzjährig M < 35% | E144: Plaquettes, toute l'année M < 35% | F144: Cippato, tutto l'anno M < 35% | G144: Wood chips, all year round M < 35%
A145: Seite 3 | C145: =IF(C$1="F",E145,IF(C$1="I",F145,IF(C$1="E",G145,D145))) -> Pagina 3 | D145: Seite 3 | E145: Page 3 | F145: Pagina 3 | G145: Page 3
A146: Seite 3 | B146: A08 | C146: =IF(C$1="F",E146,IF(C$1="I",F146,IF(C$1="E",G146,D146))) -> A08. Rilievo della situazione | D146: A08. Situationserfassung | E146: A08. Relevé de situation | F146: A08. Rilievo della situazione | G146: A08 Assessment of the situation
A147: Seite 3 | B147: A08 | C147: =IF(C$1="F",E147,IF(C$1="I",F147,IF(C$1="E",G147,D147))) -> Utente | D147: Kunde | E147: Client | F147: Utente | G147: User
A148: Seite 3 | B148: A08 | C148: =IF(C$1="F",E148,IF(C$1="I",F148,IF(C$1="E",G148,D148))) -> No. | D148: Nr. | E148: n° | F148: No. | G148: No.
A149: Seite 3 | B149: A08 | C149: =IF(C$1="F",E149,IF(C$1="I",F149,IF(C$1="E",G149,D149))) -> Oggetto | D149: Objekt | E149: Objet | F149: Oggetto | G149: Object
A150: Seite 3 | B150: A08 | C150: =IF(C$1="F",E150,IF(C$1="I",F150,IF(C$1="E",G150,D150))) -> Tipo di edificio | D150: Gebäude- bzw. | E150: Type de bâtiment | F150: Tipo di edificio | G150: Building or
A151: Seite 3 | B151: A08 | C151: =IF(C$1="F",E151,IF(C$1="I",F151,IF(C$1="E",G151,D151))) -> risp. di destinazione | D151: Nutzungsart | E151: ou d'utilisation | F151: risp. di destinazione | G151: type of use
A152: Seite 3 | B152: A08 | C152: =IF(C$1="F",E152,IF(C$1="I",F152,IF(C$1="E",G152,D152))) -> Edificio | D152: Gebäude | E152: Bâtiment | F152: Edificio | G152: Building
...

Sheet Kontrolle
A1: Kontrolle:
A2: =Text!C$5 -> Pagina 1 | B2: A01 | C2: =Text!C7 -> Committente | D2: =IF(Projektformular!G9="",A2&" "&B2&": "&C2,"") -> Pagina 1 A01: Committente | E2: 1 | F2: =IF(D2="","",E2) -> 1 | G2: =SMALL($F$2:$F$51,E2) -> #DIV/0! | H2: =IF(ISERROR(G2)=TRUE,"",OFFSET($A$1,G2,3))
A3: =Text!C$5 -> Pagina 1 | B3: A01 | C3: =Text!C8 -> Persona di contatto | D3: =IF(Projektformular!G10="",A3&" "&B3&": "&C3,"") -> Pagina 1 A01: Persona di contatto | E3: 2 | F3: =IF(D3="","",E3) -> 2 | G3: =SMALL($F$2:$F$51,E3) -> #DIV/0! | H3: =IF(ISERROR(G3)=TRUE,"",OFFSET($A$1,G3,3))
A4: =Text!C$5 -> Pagina 1 | B4: A01 | C4: =Text!C9 -> Indirizzo | D4: =IF(Projektformular!G11="",A4&" "&B4&": "&C4,"") -> Pagina 1 A01: Indirizzo | E4: 3 | F4: =IF(D4="","",E4) -> 3 | G4: =SMALL($F$2:$F$51,E4) -> #DIV/0! | H4: =IF(ISERROR(G4)=TRUE,"",OFFSET($A$1,G4,3))
A5: =Text!C$5 -> Pagina 1 | B5: A01 | C5: =Text!C10 -> Telefono | D5: =IF(Projektformular!G12="",A5&" "&B5&": "&C5,"") -> Pagina 1 A01: Telefono | E5: 4 | F5: =IF(D5="","",E5) -> 4 | G5: =SMALL($F$2:$F$51,E5) -> #DIV/0! | H5: =IF(ISERROR(G5)=TRUE,"",OFFSET($A$1,G5,3))
A6: =Text!C$5 -> Pagina 1 | B6: A01 | C6: =Text!C11 -> E-Mail | D6: =IF(Projektformular!G13="",A6&" "&B6&": "&C6,"") -> Pagina 1 A01: E-Mail | E6: 5 | F6: =IF(D6="","",E6) -> 5 | G6: =SMALL($F$2:$F$51,E6) -> #DIV/0! | H6: =IF(ISERROR(G6)=TRUE,"",OFFSET($A$1,G6,3))
A7: =Text!C$5 -> Pagina 1 | B7: A01 | C7: =Text!C12 -> NAP, Luogo | D7: =IF(Projektformular!N11="",A7&" "&B7&": "&C7,"") -> Pagina 1 A01: NAP, Luogo | E7: 6 | F7: =IF(D7="","",E7) -> 6 | G7: =SMALL($F$2:$F$51,E7) -> #DIV/0! | H7: =IF(ISERROR(G7)=TRUE,"",OFFSET($A$1,G7,3))
A8: =Text!C$5 -> Pagina 1 | B8: A02 | C8: =Text!C14 -> Responsabile per i presenti dati di progetto | D8: =IF(Projektformular!G17="",A8&" "&B8&": "&C8,"") -> Pagina 1 A02: Responsabile per i presenti dati di progetto | E8: 7 | F8: =IF(D8="","",E8) -> 7 | G8: =SMALL($F$2:$F$51,E8) -> #DIV/0! | H8: =IF(ISERROR(G8)=TRUE,"",OFFSET($A$1,G8,3))
A9: =Text!C$5 -> Pagina 1 | B9: A02 | C9: =Text!C8 -> Persona di contatto | D9: =IF(Projektformular!G18="",A9&" "&B9&": "&C9,"") -> Pagina 1 A02: Persona di contatto | E9: 8 | F9: =IF(D9="","",E9) -> 8 | G9: =SMALL($F$2:$F$51,E9) -> #DIV/0! | H9: =IF(ISERROR(G9)=TRUE,"",OFFSET($A$1,G9,3))
A10: =Text!C$5 -> Pagina 1 | B10: A02 | C10: =Text!C9 -> Indirizzo | D10: =IF(Projektformular!G19="",A10&" "&B10&": "&C10,"") -> Pagina 1 A02: Indirizzo | E10: 9 | F10: =IF(D10="","",E10) -> 9 | G10: =SMALL($F$2:$F$51,E10) -> #DIV/0! | H10: =IF(ISERROR(G10)=TRUE,"",OFFSET($A$1,G10,3))
A11: =Text!C$5 -> Pagina 1 | B11: A02 | C11: =Text!C10 -> Telefono | D11: =IF(Projektformular!G20="",A11&" "&B11&": "&C11,"") -> Pagina 1 A02: Telefono | E11: 10 | F11: =IF(D11="","",E11) -> 10 | G11: =SMALL($F$2:$F$51,E11) -> #DIV/0! | H11: =IF(ISERROR(G11)=TRUE,"",OFFSET($A$1,G11,3))
A12: =Text!C$5 -> Pagina 1 | B12: A02 | C12: =Text!C11 -> E-Mail | D12: =IF(Projektformular!G21="",A12&" "&B12&": "&C12,"") -> Pagina 1 A02: E-Mail | E12: 11 | F12: =IF(D12="","",E12) -> 11 | G12: =SMALL($F$2:$F$51,E12) -> #DIV/0! | H12: =IF(ISERROR(G12)=TRUE,"",OFFSET($A$1,G12,3))
A13: =Text!C$5 -> Pagina 1 | B13: A02 | C13: =Text!C12 -> NAP, Luogo | D13: =IF(Projektformular!N19="",A13&" "&B13&": "&C13,"") -> Pagina 1 A02: NAP, Luogo | E13: 12 | F13: =IF(D13="","",E13) -> 12 | G13: =SMALL($F$2:$F$51,E13) -> #DIV/0! | H13: =IF(ISERROR(G13)=TRUE,"",OFFSET($A$1,G13,3))
A14: =Text!C$5 -> Pagina 1 | B14: A02 | C14: =Text!C15 -> Funzione | D14: =IF(Projektformular!N20="",A14&" "&B14&": "&C14,"") -> Pagina 1 A02: Funzione | E14: 13 | F14: =IF(D14="","",E14) -> 13 | G14: =SMALL($F$2:$F$51,E14) -> #DIV/0! | H14: =IF(ISERROR(G14)=TRUE,"",OFFSET($A$1,G14,3))
A15: =Text!C$5 -> Pagina 1 | B15: A02 | C15: =Text!C16 -> Denominazione dell'impianto | D15: =IF(Projektformular!G22="",A15&" "&B15&": "&C15,"") -> Pagina 1 A02: Denominazione dell'impianto | E15: 14 | F15: =IF(D15="","",E15) -> 14 | G15: =SMALL($F$2:$F$51,E15) -> #DIV/0! | H15: =IF(ISERROR(G15)=TRUE,"",OFFSET($A$1,G15,3))
A16: =Text!C$5 -> Pagina 1 | B16: A03 | C16: =Text!C57 -> Data | D16: =IF(Projektformular!B40="",A16&" "&B16&": "&C16,"") -> Pagina 1 A03: Data | E16: 15 | F16: =IF(D16="","",E16) -> 15 | G16: =SMALL($F$2:$F$51,E16) -> #DIV/0! | H16: =IF(ISERROR(G16)=TRUE,"",OFFSET($A$1,G16,3))
A17: =Text!C$64 -> Pagina 2 | B17: A05 | C17: =Text!C66 -> Data prevista per inizio dei lavori | D17: =IF(Projektformular!AA9="",A17&" "&B17&": "&C17,"") -> Pagina 2 A05: Data prevista per inizio dei lavori | E17: 16 | F17: =IF(D17="","",E17) -> 16 | G17: =SMALL($F$2:$F$51,E17) -> #DIV/0! | H17: =IF(ISERROR(G17)=TRUE,"",OFFSET($A$1,G17,3))
A18: =Text!C$64 -> Pagina 2 | B18: A05 | C18: =Text!C67 -> Data prevista per messa in servizio completa | D18: =IF(Projektformular!AA10="",A18&" "&B18&": "&C18,"") -> Pagina 2 A05: Data prevista per messa in servizio completa | E18: 17 | F18: =IF(D18="","",E18) -> 17 | G18: =SMALL($F$2:$F$51,E18) -> #DIV/0! | H18: =IF(ISERROR(G18)=TRUE,"",OFFSET($A$1,G18,3))
A19: =Text!C$64 -> Pagina 2 | B19: A05 | C19: =Text!C68 -> Indirizzo | D19: =IF(Projektformular!AA11="",A19&" "&B19&": "&C19,"") -> Pagina 2 A05: Indirizzo | E19: 18 | F19: =IF(D19="","",E19) -> 18 | G19: =SMALL($F$2:$F$51,E19) -> #DIV/0! | H19: =IF(ISERROR(G19)=TRUE,"",OFFSET($A$1,G19,3))
A20: =Text!C$64 -> Pagina 2 | B20: A05 | C20: =Text!C69 -> NAP, Luogo | D20: =IF(Projektformular!AA12="",A20&" "&B20&": "&C20,"") -> Pagina 2 A05: NAP, Luogo | E20: 19 | F20: =IF(D20="","",E20) -> 19 | G20: =SMALL($F$2:$F$51,E20) -> #DIV/0! | H20: =IF(ISERROR(G20)=TRUE,"",OFFSET($A$1,G20,3))
A21: =Text!C$64 -> Pagina 2 | B21: A05 | C21: =Text!C70 -> Cantone | D21: =IF(Projektformular!AA13="",A21&" "&B21&": "&C21,"") -> Pagina 2 A05: Cantone | E21: 20 | F21: =IF(D21="","",E21) -> 20 | G21: =SMALL($F$2:$F$51,E21) -> #DIV/0! | H21: =IF(ISERROR(G21)=TRUE,"",OFFSET($A$1,G21,3))
A22: =Text!C$64 -> Pagina 2 | B22: A05 | C22: =Text!C97 -> Regione climatica | D22: =IF(Projektformular!AA14="",A22&" "&B22&": "&C22,"") -> Pagina 2 A05: Regione climatica | E22: 21 | F22: =IF(D22="","",E22) -> 21 | G22: =SMALL($F$2:$F$51,E22) -> #DIV/0! | H22: =IF(ISERROR(G22)=TRUE,"",OFFSET($A$1,G22,3))
A23: =Text!C$64 -> Pagina 2 | B23: A05 | C23: =Text!C104 -> Sovvenzione da parte di: | D23: =IF(Projektformular!AA16="",A23&" "&B23&": "&C23,"") -> Pagina 2 A05: Sovvenzione da parte di: | E23: 22 | F23: =IF(D23="","",E23) -> 22 | G23: =SMALL($F$2:$F$51,E23) -> #DIV/0! | H23: =IF(ISERROR(G23)=TRUE,"",OFFSET($A$1,G23,3))
A24: =Text!C$64 -> Pagina 2 | B24: A06 | C24: =Text!C109 -> Caldaie | D24: =IF(Projektformular!AA21="",A24&" "&B24&": "&C24,"") -> Pagina 2 A06: Caldaie | E24: 23 | F24: =IF(D24="","",E24) -> 23 | G24: =SMALL($F$2:$F$51,E24) -> #DIV/0! | H24: =IF(ISERROR(G24)=TRUE,"",OFFSET($A$1,G24,3))
A25: =Text!C$64 -> Pagina 2 | B25: A07 | C25: =Text!C121 -> Rete di teleriscaldamento | D25: =IF(Projektformular!AC33="",A25&" "&B25&": "&C25,"") -> Pagina 2 A07: Rete di teleriscaldamento | E25: 24 | F25: =IF(D25="","",E25) -> 24 | G25: =SMALL($F$2:$F$51,E25) -> #DIV/0! | H25: =IF(ISERROR(G25)=TRUE,"",OFFSET($A$1,G25,3))
A26: =Text!C$64 -> Pagina 2 | B26: A07 | C26: =Text!C122 -> Esercizio tutto l'anno | D26: =IF(Projektformular!AC34="",A26&" "&B26&": "&C26,"") -> Pagina 2 A07: Esercizio tutto l'anno | E26: 25 | F26: =IF(D26="","",E26) -> 25 | G26: =SMALL($F$2:$F$51,E26) -> #DIV/0! | H26: =IF(ISERROR(G26)=TRUE,"",OFFSET($A$1,G26,3))
A27: =Text!C$64 -> Pagina 2 | B27: A07 | C27: =Text!C124 -> Ulteriori vettori o sistemi a energie rinnovabili | D27: =IF(Projektformular!AC35="",A27&" "&B27&": "&C27,"") -> Pagina 2 A07: Ulteriori vettori o sistemi a energie rinnovabili | E27: 26 | F27: =IF(D27="","",E27) -> 26 | G27: =SMALL($F$2:$F$51,E27) -> #DIV/0! | H27: =IF(ISERROR(G27)=TRUE,"",OFFSET($A$1,G27,3))
A28: =Text!C$64 -> Pagina 2 | B28: A07 | C28: =Text!C125 -> Configurazione caldaie | D28: =IF(Projektformular!AC36="",A28&" "&B28&": "&C28,"") -> Pagina 2 A07: Configurazione caldaie | E28: 27 | F28: =IF(D28="","",E28) -> 27 | G28: =SMALL($F$2:$F$51,E28) -> #DIV/0! | H28: =IF(ISERROR(G28)=TRUE,"",OFFSET($A$1,G28,3))
A29: =Text!C$64 -> Pagina 2 | B29: A07 | C29: =Text!C134 -> Filtro per polveri sottili | D29: =IF(Projektformular!AC37="",A29&" "&B29&": "&C29,"") -> Pagina 2 A07: Filtro per polveri sottili | E29: 28 | F29: =IF(D29="","",E29) -> 28 | G29: =SMALL($F$2:$F$51,E29) -> #DIV/0! | H29: =IF(ISERROR(G29)=TRUE,"",OFFSET($A$1,G29,3))
A30: =Text!C$64 -> Pagina 2 | B30: A07 | C30: =Text!C126 -> Scelta del combustibile: | D30: =IF(Projektformular!AC38="",A30&" "&B30&": "&C30,"") -> Pagina 2 A07: Scelta del combustibile: | E30: 29 | F30: =IF(D30="","",E30) -> 29 | G30: =SMALL($F$2:$F$51,E30) -> #DIV/0! | H30: =IF(ISERROR(G30)=TRUE,"",OFFSET($A$1,G30,3))
A31: =Text!C$64 -> Pagina 2 | B31: A07 | C31: =Text!C129 -> Ore di funzionamento | D31: =IF(Projektformular!AI34="",A31&" "&B31&": "&C31,"") | E31: 30 | F31: =IF(D31="","",E31) | G31: =SMALL($F$2:$F$51,E31) -> #DIV/0! | H31: =IF(ISERROR(G31)=TRUE,"",OFFSET($A$1,G31,3))
A32: =Text!C145 -> Pagina 3 | B32: A08 | C32: =Text!C184 -> Riserva: Compilare tutti i dettagli | D32: =IF(OR(AND(ISBLANK(Projektformular!AV36)=TRUE,ISBLANK(Projektformular!AZ36)=TRUE,ISBLANK(Projektformular!BB36)=TRUE),AND(ISBLANK(Projektformular!AV36)=FALSE,ISBLANK(Projektformular!AZ36)=FALSE,ISBLANK(Projektformular!BB36)=FALSE)),"",A32&" "&B32&": "&C32) | E32: 31 | F32: =IF(D32="","",E32) | G32: =SMALL($F$2:$F$51,E32) -> #DIV/0! | H32: =IF(ISERROR(G32)=TRUE,"",OFFSET($A$1,G32,3))
A33: =Text!C145 -> Pagina 3 | B33: A09 | C33: =Text!C186 -> Giustificazione: | D33: =IF(AND(Berechnungen!AV40>0,Berechnungen!AX40=Dropdown!A20),A33&" "&B33&": "&C33,"") | E33: 32 | F33: =IF(D33="","",E33) | G33: =SMALL($F$2:$F$51,E33) -> #DIV/0! | H33: =IF(ISERROR(G33)=TRUE,"",OFFSET($A$1,G33,3))
A34: =Text!C$187 -> Pagina 4 | B34: A10 | C34: =Text!C189 -> Lunghezza del tracciato della | D34: =IF(Projektformular!AC33=Dropdown!A20,"",IF(ISBLANK(Projektformular!BH12)=TRUE,A34&" "&B34&": "&C34,"")) -> Pagina 4 A10: Lunghezza del tracciato della | E34: 33 | F34: =IF(D34="","",E34) -> 33 | G34: =SMALL($F$2:$F$51,E34) -> #DIV/0! | H34: =IF(ISERROR(G34)=TRUE,"",OFFSET($A$1,G34,3))
A35: =Text!C$187 -> Pagina 4 | B35: A10 | C35: =Text!C196&" "&Text!C197 -> Temperature della rete, °C Mandata | D35: =IF(Projektformular!AC33=Dropdown!A20,"",IF(ISBLANK(Projektformular!BP12)=TRUE,A35&" "&B35&": "&C35,"")) -> Pagina 4 A10: Temperature della rete, °C Mandata | E35: 34 | F35: =IF(D35="","",E35) -> 34 | G35: =SMALL($F$2:$F$51,E35) -> #DIV/0! | H35: =IF(ISERROR(G35)=TRUE,"",OFFSET($A$1,G35,3))
A36: =Text!C$187 -> Pagina 4 | B36: A10 | C36: =Text!C196&" "&Text!C198 -> Temperature della rete, °C Ritorno | D36: =IF(Projektformular!AC33=Dropdown!A20,"",IF(ISBLANK(Projektformular!BQ12)=TRUE,A36&" "&B36&": "&C36,"")) -> Pagina 4 A10: Temperature della rete, °C Ritorno | E36: 35 | F36: =IF(D36="","",E36) -> 35 | G36: =SMALL($F$2:$F$51,E36) -> #DIV/0! | H36: =IF(ISERROR(G36)=TRUE,"",OFFSET($A$1,G36,3))
A37: =Text!C$187 -> Pagina 4 | B37: A10 | C37: =Text!C203 -> Giustificazione: | D37: =IF(ISTEXT(Projektformular!BJ14)=TRUE,"",IF(Projektformular!AC33="",A37&" "&B37&": "&C37,IF(Projektformular!AC33=Dropdown!A20,"",IF(Projektformular!BI14=Text!C203,A37&" "&B37&": "&C37,"")))) -> Pagina 4 A10: Giustificazione: | E37: 36 | F37: =IF(D37="","",E37) -> 36 | G37: =SMALL($F$2:$F$51,E37) -> #DIV/0! | H37: =IF(ISERROR(G37)=TRUE,"",OFFSET($A$1,G37,3))
A38: =Text!C$187 -> Pagina 4 | B38: A11 | C38: =Text!C208 -> Potenza nominale | D38: =IF(Projektformular!BL21="",A38&" "&B38&": "&C38,"") -> Pagina 4 A11: Potenza nominale | E38: 37 | F38: =IF(D38="","",E38) -> 37 | G38: =SMALL($F$2:$F$51,E38) -> #DIV/0! | H38: =IF(ISERROR(G38)=TRUE,"",OFFSET($A$1,G38,3))
A39: =Text!C$187 -> Pagina 4 | B39: A11 | C39: =Text!C209 -> Potenza minima | D39: =IF(Projektformular!BV21="",A39&" "&B39&": "&C39,"") -> Pagina 4 A11: Potenza minima | E39: 38 | F39: =IF(D39="","",E39) -> 38 | G39: =SMALL($F$2:$F$51,E39) -> #DIV/0! | H39: =IF(ISERROR(G39)=TRUE,"",OFFSET($A$1,G39,3))
A40: =Text!C$187 -> Pagina 4 | B40: A11 | C40: =Text!C212 -> Altre caldaie - somma delle potenze nominali | D40: =IF(AND(Projektformular!BL22="",Projektformular!AC36=Dropdown!A41),A40&" "&B40&": "&C40,"") | E40: 39 | F40: =IF(D40="","",E40) | G40: =SMALL($F$2:$F$51,E40) -> #DIV/0! | H40: =IF(ISERROR(G40)=TRUE,"",OFFSET($A$1,G40,3))
...

Sheet Berechnungen
A2: Grundlagen für Berechnung | C2: Wohnen mit WW | I2: Wohnen ohne WW | O2: Schule und Verwaltung ohne WW | V2: Werte für Anzeige Richtwerte | X2: Wohnen mit WW | AA2: Wohnen ohne WW | AD2: Schule und Verwaltung ohne WW
C3: WmWW | D3: WmWW | E3: WmWW | F3: WmWW | G3: WmWW | H3: WmWW | I3: WoWW | J3: WoWW | K3: WoWW | L3: WoWW | M3: WoWW | N3: WoWW | O3: SVoWW | P3: SVoWW | Q3: SVoWW | R3: SVoWW | S3: SVoWW | T3: SVoWW
A4: Heizgrenze | B4: °C | C4: 15 | D4: 15 | E4: 13 | F4: 13 | G4: 11 | H4: 11 | I4: 15 | J4: 15 | K4: 13 | L4: 13 | M4: 11 | N4: 11 | O4: 15 | P4: 15 | Q4: 13 | R4: 13 | S4: 11 | T4: 11 | V4: Heizgrenze | W4: °C | X4: WmWW 15 | Y4: WmWW 13 | Z4: WmWW 11 | AA4: WoWW 15 | AB4: WoWW 13 | AC4: WoWW 11 | AD4: SVoWW 15 | AE4: SVoWW 13 | AF4: SVoWW 11
A5: Grenzwerte | C5: Unten | D5: Oben | E5: Unten | F5: Oben | G5: Unten | H5: Oben | I5: Unten | J5: Oben | K5: Unten | L5: Oben | M5: Unten | N5: Oben | O5: Unten | P5: Oben | Q5: Unten | R5: Oben | S5: Unten | T5: Oben
A6: Mittelland | B6: h/a | C6: 2000 | D6: 2500 | E6: 1600 | F6: 2000 | G6: 1300 | H6: 1700 | I6: 1800 | J6: 2200 | K6: 1200 | L6: 1800 | M6: 900 | N6: 1300 | O6: 1400 | P6: 1800 | Q6: 1000 | R6: 1400 | S6: 800 | T6: 1100 | V6: Mittelland VBZ | W6: h/a | X6: =TEXT(C6,"#")&" - "&TEXT(D6,"#") -> 2000 - 2500 | Y6: =TEXT(E6,"#")&" - "&TEXT(F6,"#") -> 1600 - 2000 | Z6: =TEXT(G6,"#")&" - "&TEXT(H6,"#") -> 1300 - 1700 | AA6: =TEXT(I6,"#")&" - "&TEXT(J6,"#") -> 1800 - 2200 | AB6: =TEXT(K6,"#")&" - "&TEXT(L6,"#") -> 1200 - 1800 | AC6: =TEXT(M6,"#")&" - "&TEXT(N6,"#") -> 900 - 1300 | AD6: =TEXT(O6,"#")&" - "&TEXT(P6,"#") -> 1400 - 1800 | AE6: =TEXT(Q6,"#")&" - "&TEXT(R6,"#") -> 1000 - 1400 | AF6: =TEXT(S6,"#")&" - "&TEXT(T6,"#") -> 800 - 1100
A7: 350...800 m.ü.M. | B7: kWh/(m2a) | C7: 80 | D7: 120 | E7: 50 | F7: 80 | G7: 40 | H7: 60 | I7: 60 | J7: 100 | K7: 30 | L7: 60 | M7: 20 | N7: 40 | O7: 60 | P7: 100 | Q7: 30 | R7: 60 | S7: 20 | T7: 40 | V7: Mittelland Energie | W7: kWh/(m2a) | X7: =TEXT(C7,"#")&" - "&TEXT(D7,"#") -> 80 - 120 | Y7: =TEXT(E7,"#")&" - "&TEXT(F7,"#") -> 50 - 80 | Z7: =TEXT(G7,"#")&" - "&TEXT(H7,"#") -> 40 - 60 | AA7: =TEXT(I7,"#")&" - "&TEXT(J7,"#") -> 60 - 100 | AB7: =TEXT(K7,"#")&" - "&TEXT(L7,"#") -> 30 - 60 | AC7: =TEXT(M7,"#")&" - "&TEXT(N7,"#") -> 20 - 40 | AD7: =TEXT(O7,"#")&" - "&TEXT(P7,"#") -> 60 - 100 | AE7: =TEXT(Q7,"#")&" - "&TEXT(R7,"#") -> 30 - 60 | AF7: =TEXT(S7,"#")&" - "&TEXT(T7,"#") -> 20 - 40
A8: (Zürich) | B8: W/m2 | C8: 35 | D8: 55 | E8: 30 | F8: 45 | G8: 25 | H8: 40 | I8: 30 | J8: 50 | K8: 20 | L8: 40 | M8: 20 | N8: 35 | O8: 35 | P8: 60 | Q8: 25 | R8: 50 | S8: 25 | T8: 40 | V8: Mittelland Leistung | W8: W/m2 | X8: =TEXT(C8,"#")&" - "&TEXT(D8,"#") -> 35 - 55 | Y8: =TEXT(E8,"#")&" - "&TEXT(F8,"#") -> 30 - 45 | Z8: =TEXT(G8,"#")&" - "&TEXT(H8,"#") -> 25 - 40 | AA8: =TEXT(I8,"#")&" - "&TEXT(J8,"#") -> 30 - 50 | AB8: =TEXT(K8,"#")&" - "&TEXT(L8,"#") -> 20 - 40 | AC8: =TEXT(M8,"#")&" - "&TEXT(N8,"#") -> 20 - 35 | AD8: =TEXT(O8,"#")&" - "&TEXT(P8,"#") -> 35 - 60 | AE8: =TEXT(Q8,"#")&" - "&TEXT(R8,"#") -> 25 - 50 | AF8: =TEXT(S8,"#")&" - "&TEXT(T8,"#") -> 25 - 40
A9: Bergregion | B9: h/a | C9: 2300 | D9: 2800 | E9: 1900 | F9: 2300 | G9: 1600 | H9: 2000 | I9: 2100 | J9: 2600 | K9: 1500 | L9: 2100 | M9: 1200 | N9: 1600 | O9: 1700 | P9: 2200 | Q9: 1300 | R9: 1700 | S9: 1000 | T9: 1400 | V9: Bergregion VBZ | W9: h/a | X9: =TEXT(C9,"#")&" - "&TEXT(D9,"#") -> 2300 - 2800 | Y9: =TEXT(E9,"#")&" - "&TEXT(F9,"#") -> 1900 - 2300 | Z9: =TEXT(G9,"#")&" - "&TEXT(H9,"#") -> 1600 - 2000 | AA9: =TEXT(I9,"#")&" - "&TEXT(J9,"#") -> 2100 - 2600 | AB9: =TEXT(K9,"#")&" - "&TEXT(L9,"#") -> 1500 - 2100 | AC9: =TEXT(M9,"#")&" - "&TEXT(N9,"#") -> 1200 - 1600 | AD9: =TEXT(O9,"#")&" - "&TEXT(P9,"#") -> 1700 - 2200 | AE9: =TEXT(Q9,"#")&" - "&TEXT(R9,"#") -> 1300 - 1700 | AF9: =TEXT(S9,"#")&" - "&TEXT(T9,"#") -> 1000 - 1400
A10: 800..1200 m.ü.M. | B10: kWh/(m2a) | C10: 95 | D10: 140 | E10: 55 | F10: 95 | G10: 45 | H10: 65 | I10: 75 | J10: 120 | K10: 35 | L10: 75 | M10: 25 | N10: 45 | O10: 75 | P10: 120 | Q10: 35 | R10: 75 | S10: 25 | T10: 45 | V10: Bergregion Energie | W10: kWh/(m2a) | X10: =TEXT(C10,"#")&" - "&TEXT(D10,"#") -> 95 - 140 | Y10: =TEXT(E10,"#")&" - "&TEXT(F10,"#") -> 55 - 95 | Z10: =TEXT(G10,"#")&" - "&TEXT(H10,"#") -> 45 - 65 | AA10: =TEXT(I10,"#")&" - "&TEXT(J10,"#") -> 75 - 120 | AB10: =TEXT(K10,"#")&" - "&TEXT(L10,"#") -> 35 - 75 | AC10: =TEXT(M10,"#")&" - "&TEXT(N10,"#") -> 25 - 45 | AD10: =TEXT(O10,"#")&" - "&TEXT(P10,"#") -> 75 - 120 | AE10: =TEXT(Q10,"#")&" - "&TEXT(R10,"#") -> 35 - 75 | AF10: =TEXT(S10,"#")&" - "&TEXT(T10,"#") -> 25 - 45
A11: (Engelberg) | B11: W/m2 | C11: 35 | D11: 55 | E11: 30 | F11: 45 | G11: 25 | H11: 40 | I11: 30 | J11: 50 | K11: 20 | L11: 40 | M11: 20 | N11: 35 | O11: 35 | P11: 60 | Q11: 25 | R11: 50 | S11: 25 | T11: 40 | V11: Bergregion Leistung | W11: W/m2 | X11: =TEXT(C11,"#")&" - "&TEXT(D11,"#") -> 35 - 55 | Y11: =TEXT(E11,"#")&" - "&TEXT(F11,"#") -> 30 - 45 | Z11: =TEXT(G11,"#")&" - "&TEXT(H11,"#") -> 25 - 40 | AA11: =TEXT(I11,"#")&" - "&TEXT(J11,"#") -> 30 - 50 | AB11: =TEXT(K11,"#")&" - "&TEXT(L11,"#") -> 20 - 40 | AC11: =TEXT(M11,"#")&" - "&TEXT(N11,"#") -> 20 - 35 | AD11: =TEXT(O11,"#")&" - "&TEXT(P11,"#") -> 35 - 60 | AE11: =TEXT(Q11,"#")&" - "&TEXT(R11,"#") -> 25 - 50 | AF11: =TEXT(S11,"#")&" - "&TEXT(T11,"#") -> 25 - 40
A12: Südschweiz | B12: h/a | C12: 1700 | D12: 2200 | E12: 1400 | F12: 1700 | G12: 1400 | H12: 1800 | I12: 1400 | J12: 1900 | K12: 1100 | L12: 1400 | M12: 900 | N12: 1200 | O12: 1300 | P12: 1600 | Q12: 1000 | R12: 1300 | S12: 800 | T12: 1100 | V12: Südschweiz VBZ | W12: h/a | X12: =TEXT(C12,"#")&" - "&TEXT(D12,"#") -> 1700 - 2200 | Y12: =TEXT(E12,"#")&" - "&TEXT(F12,"#") -> 1400 - 1700 | Z12: =TEXT(G12,"#")&" - "&TEXT(H12,"#") -> 1400 - 1800 | AA12: =TEXT(I12,"#")&" - "&TEXT(J12,"#") -> 1400 - 1900 | AB12: =TEXT(K12,"#")&" - "&TEXT(L12,"#") -> 1100 - 1400 | AC12: =TEXT(M12,"#")&" - "&TEXT(N12,"#") -> 900 - 1200 | AD12: =TEXT(O12,"#")&" - "&TEXT(P12,"#") -> 1300 - 1600 | AE12: =TEXT(Q12,"#")&" - "&TEXT(R12,"#") -> 1000 - 1300 | AF12: =TEXT(S12,"#")&" - "&TEXT(T12,"#") -> 800 - 1100
A13: 200...600 m.ü.M. | B13: kWh/(m2a) | C13: 70 | D13: 105 | E13: 45 | F13: 70 | G13: 40 | H13: 55 | I13: 50 | J13: 85 | K13: 25 | L13: 50 | M13: 20 | N13: 35 | O13: 50 | P13: 85 | Q13: 25 | R13: 50 | S13: 20 | T13: 35 | V13: Südschweiz Energie | W13: kWh/(m2a) | X13: =TEXT(C13,"#")&" - "&TEXT(D13,"#") -> 70 - 105 | Y13: =TEXT(E13,"#")&" - "&TEXT(F13,"#") -> 45 - 70 | Z13: =TEXT(G13,"#")&" - "&TEXT(H13,"#") -> 40 - 55 | AA13: =TEXT(I13,"#")&" - "&TEXT(J13,"#") -> 50 - 85 | AB13: =TEXT(K13,"#")&" - "&TEXT(L13,"#") -> 25 - 50 | AC13: =TEXT(M13,"#")&" - "&TEXT(N13,"#") -> 20 - 35 | AD13: =TEXT(O13,"#")&" - "&TEXT(P13,"#") -> 50 - 85 | AE13: =TEXT(Q13,"#")&" - "&TEXT(R13,"#") -> 25 - 50 | AF13: =TEXT(S13,"#")&" - "&TEXT(T13,"#") -> 20 - 35
A14: (Locarno) | B14: W/m2 | C14: 35 | D14: 55 | E14: 30 | F14: 45 | G14: 25 | H14: 40 | I14: 30 | J14: 50 | K14: 20 | L14: 40 | M14: 20 | N14: 35 | O14: 35 | P14: 60 | Q14: 25 | R14: 50 | S14: 25 | T14: 40 | V14: Südschweiz Leistung | W14: W/m2 | X14: =TEXT(C14,"#")&" - "&TEXT(D14,"#") -> 35 - 55 | Y14: =TEXT(E14,"#")&" - "&TEXT(F14,"#") -> 30 - 45 | Z14: =TEXT(G14,"#")&" - "&TEXT(H14,"#") -> 25 - 40 | AA14: =TEXT(I14,"#")&" - "&TEXT(J14,"#") -> 30 - 50 | AB14: =TEXT(K14,"#")&" - "&TEXT(L14,"#") -> 20 - 40 | AC14: =TEXT(M14,"#")&" - "&TEXT(N14,"#") -> 20 - 35 | AD14: =TEXT(O14,"#")&" - "&TEXT(P14,"#") -> 35 - 60 | AE14: =TEXT(Q14,"#")&" - "&TEXT(R14,"#") -> 25 - 50 | AF14: =TEXT(S14,"#")&" - "&TEXT(T14,"#") -> 25 - 40
W16: =IF(Projektformular!AA14=Dropdown!A29,Text!D98,IF(Projektformular!AA14=Dropdown!A30,Text!D99,Text!D100)) -> Südschweiz | AL16: Kontrolle
AD17: VBZ berechnet | AE17: spez. Energie | AF17: spez. Leistung | AG17: Suchkriterium | AH17: Suchkriterium | AI17: Richtwerte gemäss Tabelle | AL17: Vollbetriebs- | AO17: kWh/(m2 a) | AR17: W/m2 | AU17: Overall
W18: Abnehmer | X18: Gebäude- bzw. | Y18: Wärme- | Z18: Leistung | AA18: Energiebezugsfläche | AB18: Nutzenergie | AC18: davon WW | AH18: GW oben | AI18: Vollbetriebs- | AJ18: kWh/(m2 a) | AK18: W/m2 | AL18: stundenzahl
W19: Nr. | X19: Nutzungsart | Y19: dämmung | Z19: kW | AA19: m2 | AB19: kWh/a | AC19: kWh/a | AI19: stundenzahl | AL19: Unten | AM19: Oben | AN19: Check | AO19: Unten | AP19: Oben | AQ19: Check | AR19: Unten | AS19: Oben | AT19: Check
A20: Angaben für Kontrolle | C20: Wohnen mit WW | I20: Wohnen ohne WW | O20: Schule und Verwaltung ohne WW | W20: 1 | X20: =IF(ISBLANK(Projektformular!AV13)=TRUE,NA(),Projektformular!AV13) -> #N/A | Y20: =IF(ISBLANK(Projektformular!AX13)=TRUE,NA(),Projektformular!AX13) -> #N/A | Z20: =IF(ISBLANK(Projektformular!AZ13)=TRUE,NA(),Projektformular!AZ13) -> #N/A | AA20: =IF(ISBLANK(Projektformular!BA13)=TRUE,NA(),Projektformular!BA13) -> #N/A | AB20: =IF(ISBLANK(Projektformular!BB13)=TRUE,NA(),Projektformular!BB13) -> #N/A | AC20: =IF(ISBLANK(Projektformular!BC13)=TRUE,NA(),Projektformular!BC13) | AD20: =AB20/Z20 -> #N/A | AE20: =AB20/AA20 -> #N/A | AF20: =Z20*1000/AA20 -> #N/A | AG20: =IF(AND(X20=Dropdown!$A$64,Y20=Dropdown!$A$71),$X$4,IF(AND(X20=Dropdown!$A$64,Y20=Dropdown!$A$72),$Y$4,IF(AND(X20=Dropdown!$A$64,Y20=Dropdown!$A$73),$Z$4, IF(AND(X20=Dropdown!$A$65,Y20=Dropdown!$A$71),$AA$4,IF(AND(X20=Dropdown!$A$65,Y20=Dropdown!$A$72),$AB$4,IF(AND(X20=Dropdown!$A$65,Y20=Dropdown!$A$73),$AC$4, IF(AND(X20=Dropdown!$A$66,Y20=Dropdown!$A$71),$AD$4,IF(AND(X20=Dropdown!$A$66,Y20=Dropdown!$A$72),$AE$4,IF(AND(X20=Dropdown!$A$66,Y20=Dropdown!$A$73),$AF$4, IF(AND(X20=Dropdown!$A$67,Y20=Dropdown!$A$71),$AD$4,IF(AND(X20=Dropdown!$A$67,Y20=Dropdown!$A$72),$AE$4,IF(AND(X20=Dropdown!$A$67,Y20=Dropdown!$A$73),$AF$4, NA())))))))))))) -> #N/A | AH20: =AG20&" up" -> #N/A | AI20: =HLOOKUP(AG20,$X$4:$AF$14,MATCH(TEXT($W$16,"#")&" VBZ",$V$4:$V$14,0),FALSE) -> #N/A | AJ20: =HLOOKUP(AG20,$X$4:$AF$14,MATCH(TEXT($W$16,"#")&" Energie",$V$4:$V$14,0),FALSE) -> #N/A | AK20: =HLOOKUP(AG20,$X$4:$AF$14,MATCH(TEXT($W$16,"#")&" Leistung",$V$4:$V$14,0),FALSE) -> #N/A | AL20: =HLOOKUP(AG20,$C$22:$T$32,MATCH(TEXT($W$16,"#")&" VBZ",$A$22:$A$32,0),FALSE) -> #N/A | AM20: =HLOOKUP(AH20,$C$22:$T$32,MATCH(TEXT($W$16,"#")&" VBZ",$A$22:$A$32,0),FALSE) -> #N/A | AN20: =IF(AND(AD20>=AL20,AD20<=AM20),Dropdown!$A$19,Dropdown!$A$20) -> #N/A | AO20: =HLOOKUP(AG20,$C$22:$T$32,MATCH(TEXT($W$16,"#")&" Energie",$A$22:$A$32,0),FALSE) -> #N/A | AP20: =HLOOKUP(AH20,$C$22:$T$32,MATCH(TEXT($W$16,"#")&" Energie",$A$22:$A$32,0),FALSE) -> #N/A | AQ20: =IF(AND(AE20>=AO20,AE20<=AP20),Dropdown!$A$19,Dropdown!$A$20) -> #N/A | AR20: =HLOOKUP(AG20,$C$22:$T$32,MATCH(TEXT($W$16,"#")&" Leistung",$A$22:$A$32,0),FALSE) -> #N/A | AS20: =HLOOKUP(AH20,$C$22:$T$32,MATCH(TEXT($W$16,"#")&" Leistung",$A$22:$A$32,0),FALSE) -> #N/A | AT20: =IF(AND(AF20>=AR20,AF20<=AS20),Dropdown!$A$19,Dropdown!$A$20) -> #N/A | AU20: =IF(AND(AN20=Dropdown!$A$19,AQ20=Dropdown!$A$19,AT20=Dropdown!$A$19),Dropdown!$A$19,Dropdown!$A$20) -> #N/A | AV20: =IF(Projektformular!AX45="",Dropdown!A$19,Projektformular!AX45) -> Si | AW20: =IF(Projektformular!AY45="","",Projektformular!AY45)
W21: 2 | X21: =IF(ISBLANK(Projektformular!AV14)=TRUE,NA(),Projektformular!AV14) -> #N/A | Y21: =IF(ISBLANK(Projektformular!AX14)=TRUE,NA(),Projektformular!AX14) -> #N/A | Z21: =IF(ISBLANK(Projektformular!AZ14)=TRUE,NA(),Projektformular!AZ14) -> #N/A | AA21: =IF(ISBLANK(Projektformular!BA14)=TRUE,NA(),Projektformular!BA14) -> #N/A | AB21: =IF(ISBLANK(Projektformular!BB14)=TRUE,NA(),Projektformular!BB14) -> #N/A | AC21: =IF(ISBLANK(Projektformular!BC14)=TRUE,NA(),Projektformular!BC14) | AD21: =AB21/Z21 -> #N/A | AE21: =AB21/AA21 -> #N/A | AF21: =Z21*1000/AA21 -> #N/A | AG21: =IF(AND(X21=Dropdown!$A$64,Y21=Dropdown!$A$71),$X$4,IF(AND(X21=Dropdown!$A$64,Y21=Dropdown!$A$72),$Y$4,IF(AND(X21=Dropdown!$A$64,Y21=Dropdown!$A$73),$Z$4, IF(AND(X21=Dropdown!$A$65,Y21=Dropdown!$A$71),$AA$4,IF(AND(X21=Dropdown!$A$65,Y21=Dropdown!$A$72),$AB$4,IF(AND(X21=Dropdown!$A$65,Y21=Dropdown!$A$73),$AC$4, IF(AND(X21=Dropdown!$A$66,Y21=Dropdown!$A$71),$AD$4,IF(AND(X21=Dropdown!$A$66,Y21=Dropdown!$A$72),$AE$4,IF(AND(X21=Dropdown!$A$66,Y21=Dropdown!$A$73),$AF$4, IF(AND(X21=Dropdown!$A$67,Y21=Dropdown!$A$71),$AD$4,IF(AND(X21=Dropdown!$A$67,Y21=Dropdown!$A$72),$AE$4,IF(AND(X21=Dropdown!$A$67,Y21=Dropdown!$A$73),$AF$4, NA())))))))))))) -> #N/A | AH21: =AG21&" up" -> #N/A | AI21: =HLOOKUP(AG21,$X$4:$AF$14,MATCH(TEXT($W$16,"#")&" VBZ",$V$4:$V$14,0),FALSE) -> #N/A | AJ21: =HLOOKUP(AG21,$X$4:$AF$14,MATCH(TEXT($W$16,"#")&" Energie",$V$4:$V$14,0),FALSE) -> #N/A | AK21: =HLOOKUP(AG21,$X$4:$AF$14,MATCH(TEXT($W$16,"#")&" Leistung",$V$4:$V$14,0),FALSE) -> #N/A | AL21: =HLOOKUP(AG21,$C$22:$T$32,MATCH(TEXT($W$16,"#")&" VBZ",$A$22:$A$32,0),FALSE) -> #N/A | AM21: =HLOOKUP(AH21,$C$22:$T$32,MATCH(TEXT($W$16,"#")&" VBZ",$A$22:$A$32,0),FALSE) -> #N/A | AN21: =IF(AND(AD21>=AL21,AD21<=AM21),Dropdown!$A$19,Dropdown!$A$20) -> #N/A | AO21: =HLOOKUP(AG21,$C$22:$T$32,MATCH(TEXT($W$16,"#")&" Energie",$A$22:$A$32,0),FALSE) -> #N/A | AP21: =HLOOKUP(AH21,$C$22:$T$32,MATCH(TEXT($W$16,"#")&" Energie",$A$22:$A$32,0),FALSE) -> #N/A | AQ21: =IF(AND(AE21>=AO21,AE21<=AP21),Dropdown!$A$19,Dropdown!$A$20) -> #N/A | AR21: =HLOOKUP(AG21,$C$22:$T$32,MATCH(TEXT($W$16,"#")&" Leistung",$A$22:$A$32,0),FALSE) -> #N/A | AS21: =HLOOKUP(AH21,$C$22:$T$32,MATCH(TEXT($W$16,"#")&" Leistung",$A$22:$A$32,0),FALSE) -> #N/A | AT21: =IF(AND(AF21>=AR21,AF21<=AS21),Dropdown!$A$19,Dropdown!$A$20) -> #N/A | AU21: =IF(AND(AN21=Dropdown!$A$19,AQ21=Dropdown!$A$19,AT21=Dropdown!$A$19),Dropdown!$A$19,Dropdown!$A$20) -> #N/A | AV21: =IF(Projektformular!AX46="",Dropdown!A$19,Projektformular!AX46) -> Si | AW21: =IF(Projektformular!AY46="","",Projektformular!AY46)
A22: Heizgrenze | B22: °C | C22: WmWW 15 | D22: WmWW 15 up | E22: WmWW 13 | F22: WmWW 13 up | G22: WmWW 11 | H22: WmWW 11 up | I22: WoWW 15 | J22: WoWW 15 up | K22: WoWW 13 | L22: WoWW 13 up | M22: WoWW 11 | N22: WoWW 11 up | O22: SVoWW 15 | P22: SVoWW 15 up | Q22: SVoWW 13 | R22: SVoWW 13 up | S22: SVoWW 11 | T22: SVoWW 11 up | W22: 3 | X22: =IF(ISBLANK(Projektformular!AV15)=TRUE,NA(),Projektformular!AV15) -> #N/A | Y22: =IF(ISBLANK(Projektformular!AX15)=TRUE,NA(),Projektformular!AX15) -> #N/A | Z22: =IF(ISBLANK(Projektformular!AZ15)=TRUE,NA(),Projektformular!AZ15) -> #N/A | AA22: =IF(ISBLANK(Projektformular!BA15)=TRUE,NA(),Projektformular!BA15) -> #N/A | AB22: =IF(ISBLANK(Projektformular!BB15)=TRUE,NA(),Projektformular!BB15) -> #N/A | AC22: =IF(ISBLANK(Projektformular!BC15)=TRUE,NA(),Projektformular!BC15) | AD22: =AB22/Z22 -> #N/A | AE22: =AB22/AA22 -> #N/A | AF22: =Z22*1000/AA22 -> #N/A | AG22: =IF(AND(X22=Dropdown!$A$64,Y22=Dropdown!$A$71),$X$4,IF(AND(X22=Dropdown!$A$64,Y22=Dropdown!$A$72),$Y$4,IF(AND(X22=Dropdown!$A$64,Y22=Dropdown!$A$73),$Z$4, IF(AND(X22=Dropdown!$A$65,Y22=Dropdown!$A$71),$AA$4,IF(AND(X22=Dropdown!$A$65,Y22=Dropdown!$A$72),$AB$4,IF(AND(X22=Dropdown!$A$65,Y22=Dropdown!$A$73),$AC$4, IF(AND(X22=Dropdown!$A$66,Y22=Dropdown!$A$71),$AD$4,IF(AND(X22=Dropdown!$A$66,Y22=Dropdown!$A$72),$AE$4,IF(AND(X22=Dropdown!$A$66,Y22=Dropdown!$A$73),$AF$4, IF(AND(X22=Dropdown!$A$67,Y22=Dropdown!$A$71),$AD$4,IF(AND(X22=Dropdown!$A$67,Y22=Dropdown!$A$72),$AE$4,IF(AND(X22=Dropdown!$A$67,Y22=Dropdown!$A$73),$AF$4, NA())))))))))))) -> #N/A | AH22: =AG22&" up" -> #N/A | AI22: =HLOOKUP(AG22,$X$4:$AF$14,MATCH(TEXT($W$16,"#")&" VBZ",$V$4:$V$14,0),FALSE) -> #N/A | AJ22: =HLOOKUP(AG22,$X$4:$AF$14,MATCH(TEXT($W$16,"#")&" Energie",$V$4:$V$14,0),FALSE) -> #N/A | AK22: =HLOOKUP(AG22,$X$4:$AF$14,MATCH(TEXT($W$16,"#")&" Leistung",$V$4:$V$14,0),FALSE) -> #N/A | AL22: =HLOOKUP(AG22,$C$22:$T$32,MATCH(TEXT($W$16,"#")&" VBZ",$A$22:$A$32,0),FALSE) -> #N/A | AM22: =HLOOKUP(AH22,$C$22:$T$32,MATCH(TEXT($W$16,"#")&" VBZ",$A$22:$A$32,0),FALSE) -> #N/A | AN22: =IF(AND(AD22>=AL22,AD22<=AM22),Dropdown!$A$19,Dropdown!$A$20) -> #N/A | AO22: =HLOOKUP(AG22,$C$22:$T$32,MATCH(TEXT($W$16,"#")&" Energie",$A$22:$A$32,0),FALSE) -> #N/A | AP22: =HLOOKUP(AH22,$C$22:$T$32,MATCH(TEXT($W$16,"#")&" Energie",$A$22:$A$32,0),FALSE) -> #N/A | AQ22: =IF(AND(AE22>=AO22,AE22<=AP22),Dropdown!$A$19,Dropdown!$A$20) -> #N/A | AR22: =HLOOKUP(AG22,$C$22:$T$32,MATCH(TEXT($W$16,"#")&" Leistung",$A$22:$A$32,0),FALSE) -> #N/A | AS22: =HLOOKUP(AH22,$C$22:$T$32,MATCH(TEXT($W$16,"#")&" Leistung",$A$22:$A$32,0),FALSE) -> #N/A | AT22: =IF(AND(AF22>=AR22,AF22<=AS22),Dropdown!$A$19,Dropdown!$A$20) -> #N/A | AU22: =IF(AND(AN22=Dropdown!$A$19,AQ22=Dropdown!$A$19,AT22=Dropdown!$A$19),Dropdown!$A$19,Dropdown!$A$20) -> #N/A | AV22: =IF(Projektformular!AX47="",Dropdown!A$19,Projektformular!AX47) -> Si | AW22: =IF(Projektformular!AY47="","",Projektformular!AY47)
A23: Grenzwerte | C23: Unten | D23: Oben | E23: Unten | F23: Oben | G23: Unten | H23: Oben | I23: Unten | J23: Oben | K23: Unten | L23: Oben | M23: Unten | N23: Oben | O23: Unten | P23: Oben | Q23: Unten | R23: Oben | S23: Unten | T23: Oben | W23: 4 | X23: =IF(ISBLANK(Projektformular!AV16)=TRUE,NA(),Projektformular!AV16) -> #N/A | Y23: =IF(ISBLANK(Projektformular!AX16)=TRUE,NA(),Projektformular!AX16) -> #N/A | Z23: =IF(ISBLANK(Projektformular!AZ16)=TRUE,NA(),Projektformular!AZ16) -> #N/A | AA23: =IF(ISBLANK(Projektformular!BA16)=TRUE,NA(),Projektformular!BA16) -> #N/A | AB23: =IF(ISBLANK(Projektformular!BB16)=TRUE,NA(),Projektformular!BB16) -> #N/A | AC23: =IF(ISBLANK(Projektformular!BC16)=TRUE,NA(),Projektformular!BC16) | AD23: =AB23/Z23 -> #N/A | AE23: =AB23/AA23 -> #N/A | AF23: =Z23*1000/AA23 -> #N/A | AG23: =IF(AND(X23=Dropdown!$A$64,Y23=Dropdown!$A$71),$X$4,IF(AND(X23=Dropdown!$A$64,Y23=Dropdown!$A$72),$Y$4,IF(AND(X23=Dropdown!$A$64,Y23=Dropdown!$A$73),$Z$4, IF(AND(X23=Dropdown!$A$65,Y23=Dropdown!$A$71),$AA$4,IF(AND(X23=Dropdown!$A$65,Y23=Dropdown!$A$72),$AB$4,IF(AND(X23=Dropdown!$A$65,Y23=Dropdown!$A$73),$AC$4, IF(AND(X23=Dropdown!$A$66,Y23=Dropdown!$A$71),$AD$4,IF(AND(X23=Dropdown!$A$66,Y23=Dropdown!$A$72),$AE$4,IF(AND(X23=Dropdown!$A$66,Y23=Dropdown!$A$73),$AF$4, IF(AND(X23=Dropdown!$A$67,Y23=Dropdown!$A$71),$AD$4,IF(AND(X23=Dropdown!$A$67,Y23=Dropdown!$A$72),$AE$4,IF(AND(X23=Dropdown!$A$67,Y23=Dropdown!$A$73),$AF$4, NA())))))))))))) -> #N/A | AH23: =AG23&" up" -> #N/A | AI23: =HLOOKUP(AG23,$X$4:$AF$14,MATCH(TEXT($W$16,"#")&" VBZ",$V$4:$V$14,0),FALSE) -> #N/A | AJ23: =HLOOKUP(AG23,$X$4:$AF$14,MATCH(TEXT($W$16,"#")&" Energie",$V$4:$V$14,0),FALSE) -> #N/A | AK23: =HLOOKUP(AG23,$X$4:$AF$14,MATCH(TEXT($W$16,"#")&" Leistung",$V$4:$V$14,0),FALSE) -> #N/A | AL23: =HLOOKUP(AG23,$C$22:$T$32,MATCH(TEXT($W$16,"#")&" VBZ",$A$22:$A$32,0),FALSE) -> #N/A | AM23: =HLOOKUP(AH23,$C$22:$T$32,MATCH(TEXT($W$16,"#")&" VBZ",$A$22:$A$32,0),FALSE) -> #N/A | AN23: =IF(AND(AD23>=AL23,AD23<=AM23),Dropdown!$A$19,Dropdown!$A$20) -> #N/A | AO23: =HLOOKUP(AG23,$C$22:$T$32,MATCH(TEXT($W$16,"#")&" Energie",$A$22:$A$32,0),FALSE) -> #N/A | AP23: =HLOOKUP(AH23,$C$22:$T$32,MATCH(TEXT($W$16,"#")&" Energie",$A$22:$A$32,0),FALSE) -> #N/A | AQ23: =IF(AND(AE23>=AO23,AE23<=AP23),Dropdown!$A$19,Dropdown!$A$20) -> #N/A | AR23: =HLOOKUP(AG23,$C$22:$T$32,MATCH(TEXT($W$16,"#")&" Leistung",$A$22:$A$32,0),FALSE) -> #N/A | AS23: =HLOOKUP(AH23,$C$22:$T$32,MATCH(TEXT($W$16,"#")&" Leistung",$A$22:$A$32,0),FALSE) -> #N/A | AT23: =IF(AND(AF23>=AR23,AF23<=AS23),Dropdown!$A$19,Dropdown!$A$20) -> #N/A | AU23: =IF(AND(AN23=Dropdown!$A$19,AQ23=Dropdown!$A$19,AT23=Dropdown!$A$19),Dropdown!$A$19,Dropdown!$A$20) -> #N/A | AV23: =IF(Projektformular!AX48="",Dropdown!A$19,Projektformular!AX48) -> Si | AW23: =IF(Projektformular!AY48="","",Projektformular!AY48)
A24: Mittelland VBZ | B24: h/a | C24: =C6 -> 2000 | D24: =D6 -> 2500 | E24: =E6 -> 1600 | F24: =F6 -> 2000 | G24: =G6 -> 1300 | H24: =H6 -> 1700 | I24: =I6 -> 1800 | J24: =J6 -> 2200 | ... T24: =T6 -> 1100 | W24: 5 | X24: =IF(ISBLANK(Projektformular!AV17)=TRUE,NA(),Projektformular!AV17) -> #N/A | Y24: =IF(ISBLANK(Projektformular!AX17)=TRUE,NA(),Projektformular!AX17) -> #N/A | Z24: =IF(ISBLANK(Projektformular!AZ17)=TRUE,NA(),Projektformular!AZ17) -> #N/A | AA24: =IF(ISBLANK(Projektformular!BA17)=TRUE,NA(),Projektformular!BA17) -> #N/A | AB24: =IF(ISBLANK(Projektformular!BB17)=TRUE,NA(),Projektformular!BB17) -> #N/A | AC24: =IF(ISBLANK(Projektformular!BC17)=TRUE,NA(),Projektformular!BC17) | AD24: =AB24/Z24 -> #N/A | AE24: =AB24/AA24 -> #N/A | AF24: =Z24*1000/AA24 -> #N/A | AG24: =IF(AND(X24=Dropdown!$A$64,Y24=Dropdown!$A$71),$X$4,IF(AND(X24=Dropdown!$A$64,Y24=Dropdown!$A$72),$Y$4,IF(AND(X24=Dropdown!$A$64,Y24=Dropdown!$A$73),$Z$4, IF(AND(X24=Dropdown!$A$65,Y24=Dropdown!$A$71),$AA$4,IF(AND(X24=Dropdown!$A$65,Y24=Dropdown!$A$72),$AB$4,IF(AND(X24=Dropdown!$A$65,Y24=Dropdown!$A$73),$AC$4, IF(AND(X24=Dropdown!$A$66,Y24=Dropdown!$A$71),$AD$4,IF(AND(X24=Dropdown!$A$66,Y24=Dropdown!$A$72),$AE$4,IF(AND(X24=Dropdown!$A$66,Y24=Dropdown!$A$73),$AF$4, IF(AND(X24=Dropdown!$A$67,Y24=Dropdown!$A$71),$AD$4,IF(AND(X24=Dropdown!$A$67,Y24=Dropdown!$A$72),$AE$4,IF(AND(X24=Dropdown!$A$67,Y24=Dropdown!$A$73),$AF$4, NA())))))))))))) -> #N/A | AH24: =AG24&" up" -> #N/A | AI24: =HLOOKUP(AG24,$X$4:$AF$14,MATCH(TEXT($W$16,"#")&" VBZ",$V$4:$V$14,0),FALSE) -> #N/A | AJ24: =HLOOKUP(AG24,$X$4:$AF$14,MATCH(TEXT($W$16,"#")&" Energie",$V$4:$V$14,0),FALSE) -> #N/A | AK24: =HLOOKUP(AG24,$X$4:$AF$14,MATCH(TEXT($W$16,"#")&" Leistung",$V$4:$V$14,0),FALSE) -> #N/A | AL24: =HLOOKUP(AG24,$C$22:$T$32,MATCH(TEXT($W$16,"#")&" VBZ",$A$22:$A$32,0),FALSE) -> #N/A | AM24: =HLOOKUP(AH24,$C$22:$T$32,MATCH(TEXT($W$16,"#")&" VBZ",$A$22:$A$32,0),FALSE) -> #N/A | AN24: =IF(AND(AD24>=AL24,AD24<=AM24),Dropdown!$A$19,Dropdown!$A$20) -> #N/A | AO24: =HLOOKUP(AG24,$C$22:$T$32,MATCH(TEXT($W$16,"#")&" Energie",$A$22:$A$32,0),FALSE) -> #N/A | AP24: =HLOOKUP(AH24,$C$22:$T$32,MATCH(TEXT($W$16,"#")&" Energie",$A$22:$A$32,0),FALSE) -> #N/A | AQ24: =IF(AND(AE24>=AO24,AE24<=AP24),Dropdown!$A$19,Dropdown!$A$20) -> #N/A | AR24: =HLOOKUP(AG24,$C$22:$T$32,MATCH(TEXT($W$16,"#")&" Leistung",$A$22:$A$32,0),FALSE) -> #N/A | AS24: =HLOOKUP(AH24,$C$22:$T$32,MATCH(TEXT($W$16,"#")&" Leistung",$A$22:$A$32,0),FALSE) -> #N/A | AT24: =IF(AND(AF24>=AR24,AF24<=AS24),Dropdown!$A$19,Dropdown!$A$20) -> #N/A | AU24: =IF(AND(AN24=Dropdown!$A$19,AQ24=Dropdown!$A$19,AT24=Dropdown!$A$19),Dropdown!$A$19,Dropdown!$A$20) -> #N/A | AV24: =IF(Projektformular!AX49="",Dropdown!A$19,Projektformular!AX49) -> Si | AW24: =IF(Projektformular!AY49="","",Projektformular!AY49)
A25: Mittelland Energie | B25: kWh/(m2a) | C25: =C7 -> 80 | D25: =D7 -> 120 | E25: =E7 -> 50 | F25: =F7 -> 80 | G25: =G7 -> 40 | H25: =H7 -> 60 | I25: =I7 -> 60 | J25: =J7 -> 100 | ... T25: =T7 -> 40 | W25: 6 | X25: =IF(ISBLANK(Projektformular!AV18)=TRUE,NA(),Projektformular!AV18) -> #N/A | Y25: =IF(ISBLANK(Projektformular!AX18)=TRUE,NA(),Projektformular!AX18) -> #N/A | Z25: =IF(ISBLANK(Projektformular!AZ18)=TRUE,NA(),Projektformular!AZ18) -> #N/A | AA25: =IF(ISBLANK(Projektformular!BA18)=TRUE,NA(),Projektformular!BA18) -> #N/A | AB25: =IF(ISBLANK(Projektformular!BB18)=TRUE,NA(),Projektformular!BB18) -> #N/A | AC25: =IF(ISBLANK(Projektformular!BC18)=TRUE,NA(),Projektformular!BC18) | AD25: =AB25/Z25 -> #N/A | AE25: =AB25/AA25 -> #N/A | AF25: =Z25*1000/AA25 -> #N/A | AG25: =IF(AND(X25=Dropdown!$A$64,Y25=Dropdown!$A$71),$X$4,IF(AND(X25=Dropdown!$A$64,Y25=Dropdown!$A$72),$Y$4,IF(AND(X25=Dropdown!$A$64,Y25=Dropdown!$A$73),$Z$4, IF(AND(X25=Dropdown!$A$65,Y25=Dropdown!$A$71),$AA$4,IF(AND(X25=Dropdown!$A$65,Y25=Dropdown!$A$72),$AB$4,IF(AND(X25=Dropdown!$A$65,Y25=Dropdown!$A$73),$AC$4, IF(AND(X25=Dropdown!$A$66,Y25=Dropdown!$A$71),$AD$4,IF(AND(X25=Dropdown!$A$66,Y25=Dropdown!$A$72),$AE$4,IF(AND(X25=Dropdown!$A$66,Y25=Dropdown!$A$73),$AF$4, IF(AND(X25=Dropdown!$A$67,Y25=Dropdown!$A$71),$AD$4,IF(AND(X25=Dropdown!$A$67,Y25=Dropdown!$A$72),$AE$4,IF(AND(X25=Dropdown!$A$67,Y25=Dropdown!$A$73),$AF$4, NA())))))))))))) -> #N/A | AH25: =AG25&" up" -> #N/A | AI25: =HLOOKUP(AG25,$X$4:$AF$14,MATCH(TEXT($W$16,"#")&" VBZ",$V$4:$V$14,0),FALSE) -> #N/A | AJ25: =HLOOKUP(AG25,$X$4:$AF$14,MATCH(TEXT($W$16,"#")&" Energie",$V$4:$V$14,0),FALSE) -> #N/A | AK25: =HLOOKUP(AG25,$X$4:$AF$14,MATCH(TEXT($W$16,"#")&" Leistung",$V$4:$V$14,0),FALSE) -> #N/A | AL25: =HLOOKUP(AG25,$C$22:$T$32,MATCH(TEXT($W$16,"#")&" VBZ",$A$22:$A$32,0),FALSE) -> #N/A | AM25: =HLOOKUP(AH25,$C$22:$T$32,MATCH(TEXT($W$16,"#")&" VBZ",$A$22:$A$32,0),FALSE) -> #N/A | AN25: =IF(AND(AD25>=AL25,AD25<=AM25),Dropdown!$A$19,Dropdown!$A$20) -> #N/A | AO25: =HLOOKUP(AG25,$C$22:$T$32,MATCH(TEXT($W$16,"#")&" Energie",$A$22:$A$32,0),FALSE) -> #N/A | AP25: =HLOOKUP(AH25,$C$22:$T$32,MATCH(TEXT($W$16,"#")&" Energie",$A$22:$A$32,0),FALSE) -> #N/A | AQ25: =IF(AND(AE25>=AO25,AE25<=AP25),Dropdown!$A$19,Dropdown!$A$20) -> #N/A | AR25: =HLOOKUP(AG25,$C$22:$T$32,MATCH(TEXT($W$16,"#")&" Leistung",$A$22:$A$32,0),FALSE) -> #N/A | AS25: =HLOOKUP(AH25,$C$22:$T$32,MATCH(TEXT($W$16,"#")&" Leistung",$A$22:$A$32,0),FALSE) -> #N/A | AT25: =IF(AND(AF25>=AR25,AF25<=AS25),Dropdown!$A$19,Dropdown!$A$20) -> #N/A | AU25: =IF(AND(AN25=Dropdown!$A$19,AQ25=Dropdown!$A$19,AT25=Dropdown!$A$19),Dropdown!$A$19,Dropdown!$A$20) -> #N/A | AV25: =IF(Projektformular!AX50="",Dropdown!A$19,Projektformular!AX50) -> Si | AW25: =IF(Projektformular!AY50="","",Projektformular!AY50)
